BEGIN:VCALENDAR
VERSION:2.0
PRODID:-//AES GERMANY - ECPv6.15.20//NONSGML v1.0//EN
CALSCALE:GREGORIAN
METHOD:PUBLISH
X-WR-CALNAME:AES GERMANY
X-ORIGINAL-URL:https://aesgermany.org
X-WR-CALDESC:Events for AES GERMANY
REFRESH-INTERVAL;VALUE=DURATION:PT1H
X-Robots-Tag:noindex
X-PUBLISHED-TTL:PT1H
BEGIN:VTIMEZONE
TZID:Europe/Berlin
BEGIN:DAYLIGHT
TZOFFSETFROM:+0100
TZOFFSETTO:+0200
TZNAME:CEST
DTSTART:20220327T010000
END:DAYLIGHT
BEGIN:STANDARD
TZOFFSETFROM:+0200
TZOFFSETTO:+0100
TZNAME:CET
DTSTART:20221030T010000
END:STANDARD
BEGIN:DAYLIGHT
TZOFFSETFROM:+0100
TZOFFSETTO:+0200
TZNAME:CEST
DTSTART:20230326T010000
END:DAYLIGHT
BEGIN:STANDARD
TZOFFSETFROM:+0200
TZOFFSETTO:+0100
TZNAME:CET
DTSTART:20231029T010000
END:STANDARD
BEGIN:DAYLIGHT
TZOFFSETFROM:+0100
TZOFFSETTO:+0200
TZNAME:CEST
DTSTART:20240331T010000
END:DAYLIGHT
BEGIN:STANDARD
TZOFFSETFROM:+0200
TZOFFSETTO:+0100
TZNAME:CET
DTSTART:20241027T010000
END:STANDARD
END:VTIMEZONE
BEGIN:VEVENT
DTSTART;VALUE=DATE:20230425
DTEND;VALUE=DATE:20230429
DTSTAMP:20260425T234947
CREATED:20230116T153126Z
LAST-MODIFIED:20230402T204753Z
UID:1726-1682380800-1682726399@aesgermany.org
SUMMARY:Frankfurt: Prolight + Sound 2023
DESCRIPTION:Frankfurt\, Messegelände \n \n[for english see below] \nAlle AES-Mitglieder und -Freunde sind herzlich eingeladen\, ein kostenloses Ticket für alle Tage zu erhalten. Bitte senden Sie uns eine E-Mail an mail(at)aesgermany.org\, um Ihren persönlichen Code zu erhalten. Wir werden – wenn gewünscht – auch ein abendliches Treffen Audio Interessierter zu organisieren\, u.U. wie letztes Jahr wieder mit dem VDT zusammen. \nHier ein paar Audio bezogene Informationen der Messeleitung: \nGet-Together am ersten Messetag: \nThemen & Events | Prolight + Sound (messefrankfurt.com) \n\nNeben Business und Weiterbildung soll sich die Branche auf der Prolight + Sound auch feiern – gemeinsam\, klangvoll und ausgelassen. Wir laden alle Besucher und Aussteller\, am ersten Messeabend ab 18 Uhr\, zum ersten „Get-together @ Prolight + Sound“ auf die Live Sound Arena bei Musik und Drinks ein. Die Teilnahme ist kostenfrei\, wir möchten Sie zu diesem Abend gerne einladen. Jeder mit einem Ticket kann hier dazustoßen.\n\nDie Codes lassen sich im Ticketshop (www.prolight-sound.com/online-ticket ) in Dauerkarten umwandeln. Die Tickets berechtigen auch zur Nutzung des ÖPNV\, sofern das Ticket in ausgedruckter Form und personalisiert mitgeführt wird (nicht übertragbar). \n  \nProAudio College \nAudio Professionals und natürlich auch alle interessierten Branchen-Newcomer haben eine neue Anlaufstelle: Das ProAudio College\, das gemeinsam mit dem Verband Deutscher Tonmeister e.V. (VDT) umgesetzt wird. \n  \nVortrag auf der Bühne \nDas Pro Audio College bietet ein viertätiges Fortbildungsangebot. Schwerpunkte des Vortragsprogramms sind aktuelle Trends in der Beschallungsszene\, Innovationen rund um Home-Studio-Produktionen sowie exklusive Schulungsmodule aus dem SQQ7-Curriculum. \n  \nDas Themenspektrum des ProAudio College gliedert sich in vier Stränge: \n  \n\nZum einen das Curriculum des Bildungsstandards SQQ7. Dieser wurde von einer breit aufgestellten Arbeitsgruppe unter der Leitung des VDT entwickelt\, definiert Lernziele für die Weiterbildung zur “geprüften Tonspezialist:in” und richtet sich an alle Fachkräfte für Veranstaltungstechnik\, die sich in Richtung Ton weiter spezialisieren möchten.\n\n\nSQQ7 wurde auf der Prolight + Sound 2022 vom VDT und der Interessengemeinschaft Veranstaltungswirtschaft vorgestellt und beinhaltet u.a. Schwerpunkte wie Hörtraining\, physikalische Grundlagen der Akustik\, Signalquellen und Signalverarbeitung\, Netzwerktechnik und Intercom-Systeme.\n\n\nAktuelle Aufgaben in der Beschallungsszene stehen im zweiten Themenstrang auf der Agenda. Wie kann man eine gute Beschallung in einem anspruchsvollen Raum realisieren? Worauf sollte ein Beschallungsneuling besonders achten? Was sind die neuesten Entwicklungen in der Branche?\n\n\nIm dritten Themenbereich geht es um Produktionen in Heim- und Projektstudios. Hier geht es um die wichtigen Kernfragen\, die sich jedem Studiobetreiber bei Produktionen stellen.\n\n\nDer vierte Strang beschäftigt sich mit der beruflichen Zukunftsplanung und gibt Tipps für Berufseinstiger\n\nDie Teilnehmer erhalten eine schriftliche Bestätigung über das erworbene Wissen. \nDie Vorträge werden teilweise in deutscher und teilweise in englischer Sprache gehalten. \n  \nLocation: Raum „Transparenz 1“\, Portalhaus Ebene 1 \n  \n\n\n\n\n\n\n \n\n\n\nAll AES members and friends are invited to receive a free ticket for all days. Please send us an email to mail(at)aesgermany.org to receive your personal code. We will – if desired – also organize a Get-Together of audio interested people\, possibly like last year again together with the VDT. \n\n\n\nHere is some additional information from the show management: \n\n\n\nGet-Together on the first day of the fair: \n\n\n\nTopics & Events | Prolight + Sound (messefrankfurt.com) \n\n\n\nIn addition to business and continuing education\, the industry should also celebrate each other at Prolight + Sound – together\, sonically and exuberantly. We invite all visitors and exhibitors to the first “Get-together @ Prolight + Sound” on the first evening of the trade fair\, starting at 6 p.m.\, at the Live Sound Arena with music and drinks. The participation is free of charge\, we would like to invite you to this evening. Anyone with a ticket can join us here. \n\n\n\nThe codes can be converted into season tickets in the ticket store (www.prolight-sound.com/online-ticket). The tickets also entitle you to use public transport\, provided that the ticket is printed out and personalized (non-transferable). \n\n\n\nProAudio College \n\n\n\nAudio professionals and\, of course\, all interested industry newcomers have a new place to go: the ProAudio College\, which is being implemented together with the Verband Deutscher Tonmeister e.V. (VDT). \n\n\n\nLecture on stage \n\n\n\nThe Pro Audio College offers a four-day advanced training program. The lecture program will focus on current trends in the sound reinforcement scene\, innovations related to home studio productions\, and exclusive training modules from the SQQ7 curriculum. \n\n\n\nThe ProAudio College’s range of topics is divided into four strands: \n\n\n\nFirst\, the curriculum of the SQQ7 educational standard. This was developed by a broad-based working group under the leadership of the VDT\, defines learning objectives for further training as a “certified sound specialist” and is aimed at all event technology professionals who wish to specialize further in the field of sound.SQQ7 was presented at Prolight + Sound 2022 by the VDT and the Interessengemeinschaft Veranstaltungswirtschaft and includes key areas such as hearing training\, physical principles of acoustics\, signal sources and signal processing\, network technology and intercom systems.Current tasks in the sound reinforcement scene are on the agenda in the second topic strand. How can a good sound reinforcement be realized in a demanding room? What should a newcomer to sound reinforcement pay particular attention to? What are the latest developments in the industry?The third topic area is about productions in home and project studios. Here\, we deal with the important core questions that every studio operator faces during productions.The fourth strand deals with career planning for the future and provides tips for career entrants.The participants receive a written confirmation of the acquired knowledge. \n\n\n\nThe lectures will be held partly in German and partly in English. \n\n\n\nLocation: Room “Transparency 1”\, Portalhaus Level 1
URL:https://aesgermany.org/event/frankfurt-pro-light-sound-2023
LOCATION:Messe Frankfurt\, Ludwig-Erhard-Anlage 1\, Frankfurt am Main\, 60327
END:VEVENT
END:VCALENDAR