BEGIN:VCALENDAR
VERSION:2.0
PRODID:-//AES GERMANY - ECPv6.15.20//NONSGML v1.0//EN
CALSCALE:GREGORIAN
METHOD:PUBLISH
X-WR-CALNAME:AES GERMANY
X-ORIGINAL-URL:https://aesgermany.org
X-WR-CALDESC:Events for AES GERMANY
REFRESH-INTERVAL;VALUE=DURATION:PT1H
X-Robots-Tag:noindex
X-PUBLISHED-TTL:PT1H
BEGIN:VTIMEZONE
TZID:Europe/Berlin
BEGIN:DAYLIGHT
TZOFFSETFROM:+0100
TZOFFSETTO:+0200
TZNAME:CEST
DTSTART:20220327T010000
END:DAYLIGHT
BEGIN:STANDARD
TZOFFSETFROM:+0200
TZOFFSETTO:+0100
TZNAME:CET
DTSTART:20221030T010000
END:STANDARD
BEGIN:DAYLIGHT
TZOFFSETFROM:+0100
TZOFFSETTO:+0200
TZNAME:CEST
DTSTART:20230326T010000
END:DAYLIGHT
BEGIN:STANDARD
TZOFFSETFROM:+0200
TZOFFSETTO:+0100
TZNAME:CET
DTSTART:20231029T010000
END:STANDARD
BEGIN:DAYLIGHT
TZOFFSETFROM:+0100
TZOFFSETTO:+0200
TZNAME:CEST
DTSTART:20240331T010000
END:DAYLIGHT
BEGIN:STANDARD
TZOFFSETFROM:+0200
TZOFFSETTO:+0100
TZNAME:CET
DTSTART:20241027T010000
END:STANDARD
END:VTIMEZONE
BEGIN:VEVENT
DTSTART;VALUE=DATE:20230513
DTEND;VALUE=DATE:20230516
DTSTAMP:20260425T221937
CREATED:20230113T165754Z
LAST-MODIFIED:20230118T092644Z
UID:1654-1683936000-1684195199@aesgermany.org
SUMMARY:AES Europe 2023 - Espoo\, Finland
DESCRIPTION:AES Europe 2023\n\n\n\n\n\n\n\n\n\n\n\n\n\n\n\nCelebrating 75 years of Audio Innovation\n\n\n\n\n\n\n\n\n\n\n\n\n\n\n\nCall For Submissions Now Open – Deadlines\nAES Europe 2023\, 154th Audio Engineering Convention\, takes place in Aalto University\, Espoo\, near Helsinki\, Finland on May 13 – 15\, 2023. Join us for the leading program of professional audio workshops\, papers and special events\, with the worlds top manufacturers and innovators.
URL:https://aesgermany.org/event/aes-europe-2023-espoo-finland
END:VEVENT
END:VCALENDAR