BEGIN:VCALENDAR
VERSION:2.0
PRODID:-//AES GERMANY - ECPv6.15.20//NONSGML v1.0//EN
CALSCALE:GREGORIAN
METHOD:PUBLISH
X-WR-CALNAME:AES GERMANY
X-ORIGINAL-URL:https://aesgermany.org
X-WR-CALDESC:Events for AES GERMANY
REFRESH-INTERVAL;VALUE=DURATION:PT1H
X-Robots-Tag:noindex
X-PUBLISHED-TTL:PT1H
BEGIN:VTIMEZONE
TZID:Europe/Berlin
BEGIN:DAYLIGHT
TZOFFSETFROM:+0100
TZOFFSETTO:+0200
TZNAME:CEST
DTSTART:20220327T010000
END:DAYLIGHT
BEGIN:STANDARD
TZOFFSETFROM:+0200
TZOFFSETTO:+0100
TZNAME:CET
DTSTART:20221030T010000
END:STANDARD
BEGIN:DAYLIGHT
TZOFFSETFROM:+0100
TZOFFSETTO:+0200
TZNAME:CEST
DTSTART:20230326T010000
END:DAYLIGHT
BEGIN:STANDARD
TZOFFSETFROM:+0200
TZOFFSETTO:+0100
TZNAME:CET
DTSTART:20231029T010000
END:STANDARD
BEGIN:DAYLIGHT
TZOFFSETFROM:+0100
TZOFFSETTO:+0200
TZNAME:CEST
DTSTART:20240331T010000
END:DAYLIGHT
BEGIN:STANDARD
TZOFFSETFROM:+0200
TZOFFSETTO:+0100
TZNAME:CET
DTSTART:20241027T010000
END:STANDARD
END:VTIMEZONE
BEGIN:VEVENT
DTSTART;TZID=Europe/Berlin:20231215T160000
DTEND;TZID=Europe/Berlin:20231215T200000
DTSTAMP:20260422T022612
CREATED:20231207T110436Z
LAST-MODIFIED:20231207T110437Z
UID:2403-1702656000-1702670400@aesgermany.org
SUMMARY:Bremen: Sendesaal (mit VDT RG Hamburg)
DESCRIPTION:Nach langer Zeit der Abwesenheit von Präsenztreffen ist es endlich wieder so weit. Die VDT Regionalgruppe Hamburg lädt nach Bremen ein. \n\n\n\nWann: Freitag den 15. Dezember 2023Uhrzeit: 16:00 UhrWo: Sendesaal Bremen\, Bürgermeister-Spitta-Allee 45\, 28329 BremenTreffpunkt: Im Foyer des Sendesaals \n\n\n\nDer Sendesaal Bremen ist gut erreichbar im öffentlichen Nahverkehr mit dem Bus direkt vom Hauptbahnhof: Linie 24 in Richtung Neue Vahr Nord. Haltestelle: Heinrich-Hertz-Str. dann über die Straße rechts neben der ReHa Klinik am Sendesaal. \n\n\n\nFür alkoholfreie Getränke beim Treffen ist gesorgt. Anschliessend lassen wir den Tag beim einem geselligen Zusammensein im Geerdes ausklingen. Hier ist dann jeder Selbstzahler. \n\n\n\nUm Anmeldung bis Montag\, 11. Dezember an rg-hamburg@tonmeisterverband.org wird gebeten. \n\n\n\nViele Grüße \n\n\n\nHolger Jansen und Malte Hildebrandt
URL:https://aesgermany.org/event/bremen-sendesaal-mit-vdt-rg-hamburg
END:VEVENT
END:VCALENDAR