BEGIN:VCALENDAR
VERSION:2.0
PRODID:-//AES GERMANY - ECPv6.15.20//NONSGML v1.0//EN
CALSCALE:GREGORIAN
METHOD:PUBLISH
X-ORIGINAL-URL:https://aesgermany.org
X-WR-CALDESC:Events for AES GERMANY
REFRESH-INTERVAL;VALUE=DURATION:PT1H
X-Robots-Tag:noindex
X-PUBLISHED-TTL:PT1H
BEGIN:VTIMEZONE
TZID:Europe/Berlin
BEGIN:DAYLIGHT
TZOFFSETFROM:+0100
TZOFFSETTO:+0200
TZNAME:CEST
DTSTART:20230326T010000
END:DAYLIGHT
BEGIN:STANDARD
TZOFFSETFROM:+0200
TZOFFSETTO:+0100
TZNAME:CET
DTSTART:20231029T010000
END:STANDARD
BEGIN:DAYLIGHT
TZOFFSETFROM:+0100
TZOFFSETTO:+0200
TZNAME:CEST
DTSTART:20240331T010000
END:DAYLIGHT
BEGIN:STANDARD
TZOFFSETFROM:+0200
TZOFFSETTO:+0100
TZNAME:CET
DTSTART:20241027T010000
END:STANDARD
BEGIN:DAYLIGHT
TZOFFSETFROM:+0100
TZOFFSETTO:+0200
TZNAME:CEST
DTSTART:20250330T010000
END:DAYLIGHT
BEGIN:STANDARD
TZOFFSETFROM:+0200
TZOFFSETTO:+0100
TZNAME:CET
DTSTART:20251026T010000
END:STANDARD
END:VTIMEZONE
BEGIN:VEVENT
DTSTART;TZID=Europe/Berlin:20240307T180000
DTEND;TZID=Europe/Berlin:20240307T200000
DTSTAMP:20260421T075142
CREATED:20240228T131436Z
LAST-MODIFIED:20240228T131710Z
UID:2671-1709834400-1709841600@aesgermany.org
SUMMARY:AES Austria Event @ Amadeus Acoustics
DESCRIPTION:AUDIO Engineering Society AUSTRIA \n\n\n\nVon unseren Nachbarn erreicht uns folgende Einladung:Liebe AES Germany Mitglieder\, \n\n\n\ngerne möchten wie Sie zu einer Führung bei Amadeus Acoustics (Hamburgerstraße 10/10\, 1050 Wien) am 07.03.2024 um 18h einladen. Wir erwarten eine spannende Einführung in ihr Kerngebiet: Aktive Akustik und Immersive Audio. Die Einführung wird von umfangreichen Audiodemonstrationen begleitet. \n\n\n\nBei Interesse bitte ich um eine Anmeldung bis 29.02.2024.Sollten wir das Teilnehmerlimit überschreiten\, werden Mitglieder der AES Austria bevorzugt gereiht. \n\n\n\nLiebe GrüßeMichael Mihocic(michael.mihocic (at) aes-austria.org) \n\n\n\n—AES AUSTRIA – VEREIN ZUR FÖRDERUNG DER KOMMUNIKATION ÖSTERREICHISCHER AUDIOTECHNIKERAES Austria WebsiteAES Austria auf FacebookZVR: 748892004
URL:https://aesgermany.org/event/aes-austria-event-amadeus-acoustics
LOCATION:Amadeus Acoustics\, Hamburgerstraße 10/10\, Wien\, 1050
END:VEVENT
END:VCALENDAR