BEGIN:VCALENDAR
VERSION:2.0
PRODID:-//AES GERMANY - ECPv6.15.20//NONSGML v1.0//EN
CALSCALE:GREGORIAN
METHOD:PUBLISH
X-WR-CALNAME:AES GERMANY
X-ORIGINAL-URL:https://aesgermany.org
X-WR-CALDESC:Events for AES GERMANY
REFRESH-INTERVAL;VALUE=DURATION:PT1H
X-Robots-Tag:noindex
X-PUBLISHED-TTL:PT1H
BEGIN:VTIMEZONE
TZID:Europe/Berlin
BEGIN:DAYLIGHT
TZOFFSETFROM:+0100
TZOFFSETTO:+0200
TZNAME:CEST
DTSTART:20250330T010000
END:DAYLIGHT
BEGIN:STANDARD
TZOFFSETFROM:+0200
TZOFFSETTO:+0100
TZNAME:CET
DTSTART:20251026T010000
END:STANDARD
BEGIN:DAYLIGHT
TZOFFSETFROM:+0100
TZOFFSETTO:+0200
TZNAME:CEST
DTSTART:20260329T010000
END:DAYLIGHT
BEGIN:STANDARD
TZOFFSETFROM:+0200
TZOFFSETTO:+0100
TZNAME:CET
DTSTART:20261025T010000
END:STANDARD
BEGIN:DAYLIGHT
TZOFFSETFROM:+0100
TZOFFSETTO:+0200
TZNAME:CEST
DTSTART:20270328T010000
END:DAYLIGHT
BEGIN:STANDARD
TZOFFSETFROM:+0200
TZOFFSETTO:+0100
TZNAME:CET
DTSTART:20271031T010000
END:STANDARD
END:VTIMEZONE
BEGIN:VEVENT
DTSTART;TZID=Europe/Berlin:20260424T170000
DTEND;TZID=Europe/Berlin:20260424T193000
DTSTAMP:20260424T170834
CREATED:20260420T134204Z
LAST-MODIFIED:20260420T134301Z
UID:3892-1777050000-1777059000@aesgermany.org
SUMMARY:Hamburg: Spatial Audio Listening Session
DESCRIPTION:Das ligeti zentrum\, der Verband Deutscher Tonmeister (VDT) und die Student Section Hamburg der Audio Engineering Section (AES) laden zur Spatial Audio Listening Session (SALS) im Production Lab des ligeti zentrums ein. \n\n\n\nBei diesem zweistündigen Format werden mehrkanalige Audioproduktionen verschiedener Formate und Genres präsentiert\, kuratiert und moderiert. Bei einem Kaltgetränk ist es gewünscht\, sich zwischen den Stücken über das Gehörte in der Runde auszutauschen. Im Nachgang des Programms besteht weiterhin die Möglichkeit zum offenen Austausch bei angenehmer Hintergrundmusik. \n\n\n\nDieses Mal beschäftigen wir uns mit szenen- und objektbasierten Audioproduktionen\, um die Anlage im ligeti zentrum voll auszuspielen. Ohne technisch zu tief ins Detail zu gehen: Bei diesem Format lassen sich die einzelnen Elemente der Produktion im Raum frei anordnen\, wodurch sich die feinen Details der Aufnahme hören lassen. \n\n\n\nWir werden über die Formate sprechen und tiefer in die Materie eintauchen können — kein Vorwissen benötigt. \n\n\n\nUm Anmeldung via Pretix wird gebeten.Einlass ab 16:45 Uhr.Eintritt frei.
URL:https://aesgermany.org/event/hamburg-spatial-audio-listening-session
LOCATION:ligeti zentrum\, 10. Stock\, Veritaskai 1\, Hamburg\, 21079\, Germany
END:VEVENT
END:VCALENDAR