BEGIN:VCALENDAR
VERSION:2.0
PRODID:-//AES GERMANY - ECPv6.15.20//NONSGML v1.0//EN
CALSCALE:GREGORIAN
METHOD:PUBLISH
X-WR-CALNAME:AES GERMANY
X-ORIGINAL-URL:https://aesgermany.org
X-WR-CALDESC:Events for AES GERMANY
REFRESH-INTERVAL;VALUE=DURATION:PT1H
X-Robots-Tag:noindex
X-PUBLISHED-TTL:PT1H
BEGIN:VTIMEZONE
TZID:Europe/Berlin
BEGIN:DAYLIGHT
TZOFFSETFROM:+0100
TZOFFSETTO:+0200
TZNAME:CEST
DTSTART:20220327T010000
END:DAYLIGHT
BEGIN:STANDARD
TZOFFSETFROM:+0200
TZOFFSETTO:+0100
TZNAME:CET
DTSTART:20221030T010000
END:STANDARD
BEGIN:DAYLIGHT
TZOFFSETFROM:+0100
TZOFFSETTO:+0200
TZNAME:CEST
DTSTART:20230326T010000
END:DAYLIGHT
BEGIN:STANDARD
TZOFFSETFROM:+0200
TZOFFSETTO:+0100
TZNAME:CET
DTSTART:20231029T010000
END:STANDARD
BEGIN:DAYLIGHT
TZOFFSETFROM:+0100
TZOFFSETTO:+0200
TZNAME:CEST
DTSTART:20240331T010000
END:DAYLIGHT
BEGIN:STANDARD
TZOFFSETFROM:+0200
TZOFFSETTO:+0100
TZNAME:CET
DTSTART:20241027T010000
END:STANDARD
END:VTIMEZONE
BEGIN:VEVENT
DTSTART;TZID=Europe/Berlin:20230503T120000
DTEND;TZID=Europe/Berlin:20230503T130000
DTSTAMP:20260425T204122
CREATED:20230425T092109Z
LAST-MODIFIED:20230425T092110Z
UID:2056-1683115200-1683118800@aesgermany.org
SUMMARY:Führung im Musikverein Wien
DESCRIPTION:Liebe Freunde der Akustik\, Fabio macht mit seinen Studierenden der TU Wien eine Führung im Musikverein Wien und Ihr könnt dabei sein!Wann? Am Mittwoch\, den 3.05.2023 um 12 Uhr (Dauer ca. 1h).Es gibt noch freie Plätze und wenn Du Lust hast mitzukommen\, bitte schreibe an tonetti@rohde.at. Die Kosten gehen auf uns. Beste Grüße\, Francesca Tonetti  \n\n\n\n—AES AUSTRIA – VEREIN ZUR FÖRDERUNG DER KOMMUNIKATION ÖSTERREICHISCHER AUDIOTECHNIKERAES Austria WebsiteAES Austria auf FacebookZVR: 748892004
URL:https://aesgermany.org/event/fuhrung-im-musikverein-wien
END:VEVENT
BEGIN:VEVENT
DTSTART;VALUE=DATE:20230513
DTEND;VALUE=DATE:20230516
DTSTAMP:20260425T204122
CREATED:20230113T165754Z
LAST-MODIFIED:20230118T092644Z
UID:1654-1683936000-1684195199@aesgermany.org
SUMMARY:AES Europe 2023 - Espoo\, Finland
DESCRIPTION:AES Europe 2023\n\n\n\n\n\n\n\n\n\n\n\n\n\n\n\nCelebrating 75 years of Audio Innovation\n\n\n\n\n\n\n\n\n\n\n\n\n\n\n\nCall For Submissions Now Open – Deadlines\nAES Europe 2023\, 154th Audio Engineering Convention\, takes place in Aalto University\, Espoo\, near Helsinki\, Finland on May 13 – 15\, 2023. Join us for the leading program of professional audio workshops\, papers and special events\, with the worlds top manufacturers and innovators.
URL:https://aesgermany.org/event/aes-europe-2023-espoo-finland
END:VEVENT
BEGIN:VEVENT
DTSTART;TZID=Europe/Berlin:20230518T000000
DTEND;TZID=Europe/Berlin:20230520T235959
DTSTAMP:20260425T204122
CREATED:20230121T162031Z
LAST-MODIFIED:20230421T155656Z
UID:1699-1684368000-1684627199@aesgermany.org
SUMMARY:CANCELLED: Hamburg: KLG 2023 // 6th International Conference on Sonic Arts and Spatial Audio
DESCRIPTION:
URL:https://aesgermany.org/event/hamburg-klg-2023-6th-international-conference-on-sonic-arts-and-spatial-audio
LOCATION:HAW Hamburg\, Finkenau\, Tonlabor\, FINKENAU 35\, Hamburg\, 22081
ORGANIZER;CN="HAW Hamburg%2C Prof. Thomas G%C3%B6rne":MAILTO:hamburg@aesgermany.org
END:VEVENT
BEGIN:VEVENT
DTSTART;TZID=Europe/Berlin:20230526T000000
DTEND;TZID=Europe/Berlin:20231031T235959
DTSTAMP:20260425T204122
CREATED:20230606T013751Z
LAST-MODIFIED:20230606T014426Z
UID:2152-1685059200-1698796799@aesgermany.org
SUMMARY:Ausstellung MKG Hamburg: Can You Hear It?
DESCRIPTION:Musik und Künstliche Intelligenz \n\n\n\n\n\n\n\n\n\nhttps://www.mkg-hamburg.de/ausstellungen/can-you-hear-it
URL:https://aesgermany.org/event/ausstellung-mkg-hamburg-can-you-hear-it
END:VEVENT
BEGIN:VEVENT
DTSTART;TZID=Europe/Berlin:20230529T000000
DTEND;TZID=Europe/Berlin:20230529T235959
DTSTAMP:20260425T204122
CREATED:20230402T173513Z
LAST-MODIFIED:20230402T173514Z
UID:1989-1685318400-1685404799@aesgermany.org
SUMMARY:CfP Submission Deadline for tmt32
DESCRIPTION:https://tonmeister.org/de/rubriken/tmt32-news/tmt32-call-geoeffnet/
URL:https://aesgermany.org/event/cfp-submission-deadline-for-tmt32
END:VEVENT
BEGIN:VEVENT
DTSTART;TZID=Europe/Berlin:20230531T163000
DTEND;TZID=Europe/Berlin:20230531T203000
DTSTAMP:20260425T204122
CREATED:20230504T105010Z
LAST-MODIFIED:20230504T105012Z
UID:2068-1685550600-1685565000@aesgermany.org
SUMMARY:VDT & AES Regionalgruppen Frankfurt laden ein zum Meetup bei Adam Hall | LD Systems
DESCRIPTION:31. Mai 2023 um 16:30 Uhr – Adam Hall Experience Center: Adan-Hall-Straße 1\, 61267 Neu-Anspach \n\n\n\nVDT & AES Regionalgruppen Frankfurt laden ein zum Meetup bei Adam Hall | LD Systems \n\n\n\nGoogle Maps Link zum Adam Hall Standort \n\n\n\nGoogle Maps Link zum Restaurant Kastanienhof \n\n\n\nLiebe Audiointeressierte der Region Frankfurt\, \n\n\n\ndie Regionalgruppen des Verbands Deutscher Tonmeister*innen und der AES Germany laden herzlich zu einem Meetup bei der Adam Hall Group in Neu-Anspach ein. Wir treffen uns im Experience Center\, das etwa 30 Autominuten von Frankfurt entfernt liegt. \n\n\n\nAlexander Studte\, der R&D Director der Adam Hall Group\, lädt uns in den Experience Center ein und wird uns an diesem Abend unter anderem zusammen mit Jens Kleinhuis\, Field Application Engineer bei LD Systems\, begleiten. Die Veranstaltung beginnt im Experience Center und bietet uns die Möglichkeit\, die Adam Hall Group näher kennenzulernen. Unter anderem werden wir einen Firmenrundgang erleben und zwei Produktserien von LD Systems\, MAUI & MAILA\, vorgestellt bekommen. Der Tag wird mit einem gemütlichen Abendessen im  \n\n\n\nKastanienhof Neu-Anspach mit italienischer Küche abgerundet\, bei dem wir uns austauschen und vernetzen können. \n\n\n\nWir freuen uns auf einen spannenden und informativen Tag mit euch und bitten um eine kurze Anmeldung bei eventbrite\, damit wir besser planen können. VDT Mitglieder bitte VDT Tickets klicken\, AES Mitglieder die AES Tickets. \n\n\n\nANMELDUNG: \n\n\n\nhttps://www.eventbrite.com/e/vdt-aes-meetup-bei-adam-hall-ld-systems-tickets-628695564357 \n\n\n\nFür Rückfragen stehen wir gerne unter frankfurt@aesgermany.org und niels.reckziegel@tonmeister.de zur Verfügung.Mit besten Grüßen\, \n\n\n\nTill Gerneth – Leitung AES Regionalgruppe Frankfurt \n\n\n\nNiels Reckziegel\, Tonmeister VDTRegionalgruppenleiter Frankfurt des Verbandes Deutscher Tonmeister
URL:https://aesgermany.org/event/vdt-aes-regionalgruppen-frankfurt-laden-ein-zum-meetup-bei-adam-hall-ld-systems
END:VEVENT
END:VCALENDAR