BEGIN:VCALENDAR
VERSION:2.0
PRODID:-//AES GERMANY - ECPv6.15.20//NONSGML v1.0//EN
CALSCALE:GREGORIAN
METHOD:PUBLISH
X-ORIGINAL-URL:https://aesgermany.org
X-WR-CALDESC:Events for AES GERMANY
REFRESH-INTERVAL;VALUE=DURATION:PT1H
X-Robots-Tag:noindex
X-PUBLISHED-TTL:PT1H
BEGIN:VTIMEZONE
TZID:Europe/Berlin
BEGIN:DAYLIGHT
TZOFFSETFROM:+0100
TZOFFSETTO:+0200
TZNAME:CEST
DTSTART:20220327T010000
END:DAYLIGHT
BEGIN:STANDARD
TZOFFSETFROM:+0200
TZOFFSETTO:+0100
TZNAME:CET
DTSTART:20221030T010000
END:STANDARD
BEGIN:DAYLIGHT
TZOFFSETFROM:+0100
TZOFFSETTO:+0200
TZNAME:CEST
DTSTART:20230326T010000
END:DAYLIGHT
BEGIN:STANDARD
TZOFFSETFROM:+0200
TZOFFSETTO:+0100
TZNAME:CET
DTSTART:20231029T010000
END:STANDARD
BEGIN:DAYLIGHT
TZOFFSETFROM:+0100
TZOFFSETTO:+0200
TZNAME:CEST
DTSTART:20240331T010000
END:DAYLIGHT
BEGIN:STANDARD
TZOFFSETFROM:+0200
TZOFFSETTO:+0100
TZNAME:CET
DTSTART:20241027T010000
END:STANDARD
END:VTIMEZONE
BEGIN:VEVENT
DTSTART;TZID=Europe/Berlin:20230526T000000
DTEND;TZID=Europe/Berlin:20231031T235959
DTSTAMP:20260425T191808
CREATED:20230606T013751Z
LAST-MODIFIED:20230606T014426Z
UID:2152-1685059200-1698796799@aesgermany.org
SUMMARY:Ausstellung MKG Hamburg: Can You Hear It?
DESCRIPTION:Musik und Künstliche Intelligenz \n\n\n\n\n\n\n\n\n\nhttps://www.mkg-hamburg.de/ausstellungen/can-you-hear-it
URL:https://aesgermany.org/event/ausstellung-mkg-hamburg-can-you-hear-it
END:VEVENT
BEGIN:VEVENT
DTSTART;TZID=Europe/Berlin:20230613T170000
DTEND;TZID=Europe/Berlin:20230613T183000
DTSTAMP:20260425T191808
CREATED:20230528T133920Z
LAST-MODIFIED:20230625T201108Z
UID:2098-1686675600-1686681000@aesgermany.org
SUMMARY:AES Germany Research Colloquium #4: From mp3 to PARty
DESCRIPTION:The new AES Germany Research Colloquium aims to provide a platform to discourse on a specific audio topic and create a bridge between basic research\, manufacturers and users in audio technology. \n\n\n\nFrom mp3 to PARty. How signal processing\, psychoacoustics and machine learning fit together\n\n\n\nThe talk will start with a brief historical overview: How mp3 and other audio coding formats got developed. To advance this technology\, a lot of knowledge about our ears has been necessary. \n\n\n\nSince then\, we have learned much more about our ears and brain\, as well as how we listen to the world around us. Cognitive effects have become more and more important. We really hear what we expect to hear. All this has been used in a lot of research over the years. \n\n\n\nCurrently\, an important topic of our research in Ilmenau is finding out how we can reproduce immersive sound\, the feeling of “being there”\, over headphones. After approximately 50 years of research by others and contributions from myself\, we can finally claim that we have solved this problem. The process of how we achieved it and what means we used will be included in the talk. \n\n\n\nThe talk will conclude by presenting ideas about future applications that may initially sound like science fiction\, such as PARty\, but we are working to transform them into reality. \n\n\n\nProf. Dr.-Ing. Karlheinz Brandenburg – CEO of Brandenburg Labs GmbH and Senior Professor at the Institute of Media Technology at Technische Universität Ilmenau\n\n\n\n\n\n\n\nKarlheinz Brandenburg received the Dipl.-Ing. and Dipl.-Math. degrees in electrical engineering and mathematics and the Dr.-Ing. degree in electrical engineering from the Friedrich-Alexander-Universität (FAU)\, Erlangen-Nürnberg\, Germany. He is currently Senior Professor at TU Ilmenau\, Germany and CEO of Brandenburg Labs GmbH\, a startup company specializing in immersive audio technologies. Following times as a Postdoctoral Member of Technical Staff at AT&T Bell Laboratories in Murray Hill\, USA and again FAU he joined the Fraunhofer IIS\, Erlangen\, as head of the Audio and Multimedia Department. He is the founding director of the Fraunhofer IDMT\, Ilmenau where he retired in 2019. For his pioneering work in digital audio coding (as a main contributor to the mp3 and AAC audio coding standards)\, perceptual measurement techniques\, wave field synthesis\, psychoacoustics\, and analysis of audio and video signals he received many awards. \n\n\n\nJoin Meeting\n\n\n\nThe colloquium will be held in English with a presentation of 60 minutes\, followed by a 30-minute discussion. \n\n\n\nLink to register in advance for this meeting. After registering\, you will receive a confirmation email containing information about joining the meeting. \n\n\n\nThe Meeting Format: We will be hosting this meeting using Zoom. After registering\, you will receive a confirmation email containing information about joining the webinar. For most participants\, audio and video are muted during the presentation. In the discussion they can be unmuted (indicated by the raised hand function). This will be explained again at the beginning of the meeting. For a better quality we suggest to use a headset with microphone. The presentation will be recorded. By turning on your camera you are consenting for your image to be used in a photograph of the event.
URL:https://aesgermany.org/event/aes-germany-research-colloquium-4-from-mp3-to-party
LOCATION:Online Zoom
CATEGORIES:Research Colloquium
END:VEVENT
BEGIN:VEVENT
DTSTART;TZID=Europe/Berlin:20230618T130000
DTEND;TZID=Europe/Berlin:20230618T180000
DTSTAMP:20260425T191808
CREATED:20230605T200610Z
LAST-MODIFIED:20230606T003257Z
UID:2142-1687093200-1687111200@aesgermany.org
SUMMARY:Tonkunst Hannover eV: Sommerfest
DESCRIPTION:Am 18. Juni 2023 laden wir zu unserem großen Sommerfest ein!  \n\n\n\nBei einem bunten Rahmenprogramm aus Konzerten\, Talks\, einem Live Podcast und vielem mehr\, informieren wir über unsere aktuelle Vereinsarbeit. Für das leibliche Wohl wird ebenfalls gesorgt sein.  \n\n\n\nWeitere Details zum Programmablauf folgen in den kommenden Tagen.  \n\n\n\nZur besseren Planung freuen wir uns über einen kurzen Hinweis über Ihr Kommen über unser Kontaktformular.
URL:https://aesgermany.org/event/tonkunst-hannover-sommerfest
LOCATION:Tonstudio Tessmar\, Reinhold-Schleese-Str. 24\, Hannover\, 30179
END:VEVENT
END:VCALENDAR