BEGIN:VCALENDAR
VERSION:2.0
PRODID:-//AES GERMANY - ECPv6.15.20//NONSGML v1.0//EN
CALSCALE:GREGORIAN
METHOD:PUBLISH
X-ORIGINAL-URL:https://aesgermany.org
X-WR-CALDESC:Events for AES GERMANY
REFRESH-INTERVAL;VALUE=DURATION:PT1H
X-Robots-Tag:noindex
X-PUBLISHED-TTL:PT1H
BEGIN:VTIMEZONE
TZID:Europe/Berlin
BEGIN:DAYLIGHT
TZOFFSETFROM:+0100
TZOFFSETTO:+0200
TZNAME:CEST
DTSTART:20220327T010000
END:DAYLIGHT
BEGIN:STANDARD
TZOFFSETFROM:+0200
TZOFFSETTO:+0100
TZNAME:CET
DTSTART:20221030T010000
END:STANDARD
BEGIN:DAYLIGHT
TZOFFSETFROM:+0100
TZOFFSETTO:+0200
TZNAME:CEST
DTSTART:20230326T010000
END:DAYLIGHT
BEGIN:STANDARD
TZOFFSETFROM:+0200
TZOFFSETTO:+0100
TZNAME:CET
DTSTART:20231029T010000
END:STANDARD
BEGIN:DAYLIGHT
TZOFFSETFROM:+0100
TZOFFSETTO:+0200
TZNAME:CEST
DTSTART:20240331T010000
END:DAYLIGHT
BEGIN:STANDARD
TZOFFSETFROM:+0200
TZOFFSETTO:+0100
TZNAME:CET
DTSTART:20241027T010000
END:STANDARD
END:VTIMEZONE
BEGIN:VEVENT
DTSTART;TZID=Europe/Berlin:20231207T180000
DTEND;TZID=Europe/Berlin:20231207T235959
DTSTAMP:20260422T004621
CREATED:20231207T102815Z
LAST-MODIFIED:20231207T102816Z
UID:2395-1701972000-1701993599@aesgermany.org
SUMMARY:Frankfurt: GetTogether XMAS Grooves 2023
DESCRIPTION:Wann: Do\, 07.12.2023\, ab 18:00 Uhr \n\n\n\nWo: Studio 301  – Frankfurt am Main\, Hanauer Landstr. 172 | Google Maps Link \n\n\n\nLiebe Audiointeressierte:n der Region Frankfurt\, \n\n\n\nzum gemeinsamen Abschluss dieses Jahres lade ich euch herzlich für diesen Donnerstag zum Xmas Grooves Event von Ulli Schiller in die Studios 301 in Frankfurt am Main ein. Auch die Frankfurter VDT Regionalgruppe von Niels Reckziegel wird hier ihren Stammtisch abhalten. \n\n\n\n“Bei aufheizendem Glühwein und feinstem Weihnachtsgebäck treffen sich Künstler\, Produzenten\, Label-Staff\, Live- und Studio-Tonspezialisten\, Hersteller und Vertriebler von Studio-Equipment sowie Musikliebhaber unterschiedlicher Genres.” \n\n\n\nEin besonderes Highlight des Abends wird die Einweihung der neuen Dolby Atmos Regie in Studio 3 sein – weitere Infos zum Veranstalter und zur Veranstaltung befinden sich in der angehängten Einladung. \n\n\n\nAnmeldung: Ich bitte um kurze Rückmeldung & Anmeldung\, damit entsprechend geplant werden kann: https://docs.google.com/forms/d/e/1FAIpQLScduwoXR0DdUh6-e34QSNABmqsXmzSHlpfynLXdpZglR0J9yg/viewform \n\n\n\nIch freue mich auf einen schönen Abend mit euch!Mit besten Grüßen und bis Donnerstag \n\n\n\nTill Gerneth \n\n\n\nTill GernethAES Germany – Frankfurt Regional Group Leaderfrankfurt@aesgermany.orgAudio Engineering SocietySection Germanymail@aesgermany.orgwww.aesgermany.org@2023
URL:https://aesgermany.org/event/frankfurt-gettogether-xmas-grooves-2023
END:VEVENT
BEGIN:VEVENT
DTSTART;TZID=Europe/Berlin:20231208T190000
DTEND;TZID=Europe/Berlin:20231208T233000
DTSTAMP:20260422T004621
CREATED:20231207T103700Z
LAST-MODIFIED:20231207T103948Z
UID:2398-1702062000-1702078200@aesgermany.org
SUMMARY:Hamburg: Punsch! Musik! 3D-Audio!
DESCRIPTION:Liebe Audio-Freundinnen und -Freunde in und um Hamburg\, \n\n\n\nich möchte Sie und Euch gerne im Namen der AES Hamburg Student Section zur Weihnachtsfeier im Tonlabor der HAW Hamburg einladen: \n\n\n\nFreitag\, 8.12.\, ab 19:00 \n\n\n\nKunst- und Mediencampus Hamburg \n\n\n\nFinkenau 35\, Haus B\, 3. OG \n\n\n\nNeben Mecklenburger Punsch und Livemusik (mit anschließender Session: Instrumente sehr gerne mitbringen!) gibt es einen Rundgang durchs Labor mit Demo unserer 33.2- und 14.1-Immersive-Audio-Studios und jede Menge Gelegenheit für Gespräche nicht nur über Software und 19″. \n\n\n\nHerzliche Grüße\, \n\n\n\nThomas Görne \n\n\n\nHAW Hamburg Fakultät Design\, Medien und Information \n\n\n\nAES Germany Regionalgruppe Hamburg \n\n\n\nAES Hamburg Student Section
URL:https://aesgermany.org/event/hamburgpunsch-musik
END:VEVENT
BEGIN:VEVENT
DTSTART;TZID=Europe/Berlin:20231215T160000
DTEND;TZID=Europe/Berlin:20231215T200000
DTSTAMP:20260422T004621
CREATED:20231207T110436Z
LAST-MODIFIED:20231207T110437Z
UID:2403-1702656000-1702670400@aesgermany.org
SUMMARY:Bremen: Sendesaal (mit VDT RG Hamburg)
DESCRIPTION:Nach langer Zeit der Abwesenheit von Präsenztreffen ist es endlich wieder so weit. Die VDT Regionalgruppe Hamburg lädt nach Bremen ein. \n\n\n\nWann: Freitag den 15. Dezember 2023Uhrzeit: 16:00 UhrWo: Sendesaal Bremen\, Bürgermeister-Spitta-Allee 45\, 28329 BremenTreffpunkt: Im Foyer des Sendesaals \n\n\n\nDer Sendesaal Bremen ist gut erreichbar im öffentlichen Nahverkehr mit dem Bus direkt vom Hauptbahnhof: Linie 24 in Richtung Neue Vahr Nord. Haltestelle: Heinrich-Hertz-Str. dann über die Straße rechts neben der ReHa Klinik am Sendesaal. \n\n\n\nFür alkoholfreie Getränke beim Treffen ist gesorgt. Anschliessend lassen wir den Tag beim einem geselligen Zusammensein im Geerdes ausklingen. Hier ist dann jeder Selbstzahler. \n\n\n\nUm Anmeldung bis Montag\, 11. Dezember an rg-hamburg@tonmeisterverband.org wird gebeten. \n\n\n\nViele Grüße \n\n\n\nHolger Jansen und Malte Hildebrandt
URL:https://aesgermany.org/event/bremen-sendesaal-mit-vdt-rg-hamburg
END:VEVENT
END:VCALENDAR