BEGIN:VCALENDAR
VERSION:2.0
PRODID:-//AES GERMANY - ECPv6.15.20//NONSGML v1.0//EN
CALSCALE:GREGORIAN
METHOD:PUBLISH
X-WR-CALNAME:AES GERMANY
X-ORIGINAL-URL:https://aesgermany.org
X-WR-CALDESC:Events for AES GERMANY
REFRESH-INTERVAL;VALUE=DURATION:PT1H
X-Robots-Tag:noindex
X-PUBLISHED-TTL:PT1H
BEGIN:VTIMEZONE
TZID:Europe/Berlin
BEGIN:DAYLIGHT
TZOFFSETFROM:+0100
TZOFFSETTO:+0200
TZNAME:CEST
DTSTART:20230326T010000
END:DAYLIGHT
BEGIN:STANDARD
TZOFFSETFROM:+0200
TZOFFSETTO:+0100
TZNAME:CET
DTSTART:20231029T010000
END:STANDARD
BEGIN:DAYLIGHT
TZOFFSETFROM:+0100
TZOFFSETTO:+0200
TZNAME:CEST
DTSTART:20240331T010000
END:DAYLIGHT
BEGIN:STANDARD
TZOFFSETFROM:+0200
TZOFFSETTO:+0100
TZNAME:CET
DTSTART:20241027T010000
END:STANDARD
BEGIN:DAYLIGHT
TZOFFSETFROM:+0100
TZOFFSETTO:+0200
TZNAME:CEST
DTSTART:20250330T010000
END:DAYLIGHT
BEGIN:STANDARD
TZOFFSETFROM:+0200
TZOFFSETTO:+0100
TZNAME:CET
DTSTART:20251026T010000
END:STANDARD
END:VTIMEZONE
BEGIN:VEVENT
DTSTART;TZID=Europe/Berlin:20240109T183000
DTEND;TZID=Europe/Berlin:20240109T220000
DTSTAMP:20260421T230947
CREATED:20231220T085825Z
LAST-MODIFIED:20240214T124320Z
UID:2418-1704825000-1704837600@aesgermany.org
SUMMARY:Immersive Audio as its own art
DESCRIPTION:FIND THE REPORT HERE.Step into a world where sound becomes an artistic masterpiece\, as Immersive Audio takes you on a mind-bending journey of auditory bliss. \n\n\n\nMSM STUDIOS BERLIN’s new 9.1.4 facility\n\n\n\n \n\n\n\nAES Germany Berlin\, Angelika Podola & MSM Berlin\, Stefan Bock are inviting to:Immersive Audio as its own art: \n\n\n\nMost immersive audio mixes are 3D representations of productions made for stereo. In this workshop we will discuss and demonstrate a completely different approach. The artistic impact is different\, if the artists and engineers take immersive audio as its own art. We’ll demonstrate four different projects that have started as an immersive audio production already in the phase of composing and creation. This can be achieved as well for productions\, that have started as an immersive live experience as for projects that are created in a studio environment only. \n\n\n\nWe will play music from our latest productions like Dave McKendry\, Martin Kälberer\, Boris Blank\, Die Fantastischen Vier\, Peter Gabriel and more.The workshop will be conducted by Stefan Bock – Director | Engineer & Producer from msm-studios.Event host: msm-studios GmbH & Co. KG \n\n\n\nRegister here: https://www.eventbrite.de/e/immersive-audio-as-its-own-art-tickets-779456123247?aff=oddtdtcreator \n\n\n\nPresenter: Stefan Bock
URL:https://aesgermany.org/event/immersive-audio-as-its-own-art
LOCATION:MSM STUDIOS BERLIN\, Gneisenaustraße 44-45\, Berlin\, 10961\, Germany
ORGANIZER;CN="AES Germany BERLIN":MAILTO:berlin@aesgermany.org
END:VEVENT
BEGIN:VEVENT
DTSTART;TZID=Europe/Berlin:20240117T000000
DTEND;TZID=Europe/Berlin:20240118T235959
DTSTAMP:20260421T230947
CREATED:20230903T001058Z
LAST-MODIFIED:20240106T124133Z
UID:2256-1705449600-1705622399@aesgermany.org
SUMMARY:HAMBURG OPEN
DESCRIPTION:Das Innovations- und Networking-Event für Technik- und Kreativschaffende der Broadcast- und Medientechnikbranche. Geben Sie uns eine E-Mail um kostenlosen Eintritt zu erhalten. \n\n\n\n\n\n\n\n\n\n\n\nThe successfull “AES Germany presents …” talk will continue to present invited speakers. Please apply anytime to be listed as an expert speaker in our database …. “Immersive audio in broadcasting and LIVE streaming” is on our hot list currently.If you are a startup we can also take care that you can present your new product\, service\, business idea or patent on the shows exhibition floor for a discounted rate….pls contact us. \n\n\n\nmore background information: \n\n\n\nhttps://aesgermany.org/aes-germany-presents-hamburg-open
URL:https://aesgermany.org/event/hamburg-open
LOCATION:HAMBURG MESSE\, Messeplatz 1\, Hamburg\, 20357
END:VEVENT
END:VCALENDAR